Workbook

Sheet P&L
A1: Company Name
A6: 12-Month Pro Forma Income Statement
C11: 44197 | D11: 44228 | E11: 44256 | F11: 44287 | G11: 44317 | H11: 44348 | I11: 44378 | J11: 44409 | K11: 44440 | L11: 44470 | M11: 44501 | N11: 44531 | O11: Total
A12: Revenue
A13: Revenue Type
A14: Introductory Packages/Consultations/Challenge or Transformation Fees | C14: 10000 | O14: =SUM(C14:N14) -> 10000
A15: Recurring Revenue Income | C15: 5000 | O15: =SUM(C15:N15) -> 5000
A16: Retail Sales
A17: Other Income - PPP/Grants/Etc.
A18: Package or short term sale income
A19: Single sessions
A20: Virtual Programs
A24: Total Revenue | C24: =SUM(C14:C15) -> 15000 | D24: =SUM(D14:D15) -> 0 | E24: =SUM(E14:E15) -> 0 | F24: =SUM(F14:F15) -> 0 | G24: =SUM(G14:G15) -> 0 | H24: =SUM(H14:H15) -> 0 | I24: =SUM(I14:I15) -> 0 | J24: =SUM(J14:J15) -> 0 | ... O24: =SUM(O14:O15) -> 15000
A26: Cost of Goods Sold
A27: Products for Retail Sale | B27: 0.1 | O27: =SUM(C27:N27) -> 0
A28: Nutritional Supplies | O28: =SUM(C28:N28) -> 0
O29: =SUM(C29:N29) -> 0
O30: =SUM(C30:N30) -> 0
O31: =SUM(C31:N31) -> 0
A32: Total Cost of Goods Sold | C32: =SUM(C27:C31) -> 0 | D32: =SUM(D27:D31) -> 0 | E32: =SUM(E27:E31) -> 0 | F32: =SUM(F27:F31) -> 0 | G32: =SUM(G27:G31) -> 0 | H32: =SUM(H27:H31) -> 0 | I32: =SUM(I27:I31) -> 0 | J32: =SUM(J27:J31) -> 0 | ... O32: =SUM(O27:O31) -> 0
A33: Gross Profit | C33: =C24-C32 -> 15000 | D33: =D24-D32 -> 0 | E33: =E24-E32 -> 0 | F33: =F24-F32 -> 0 | G33: =G24-G32 -> 0 | H33: =H24-H32 -> 0 | I33: =I24-I32 -> 0 | J33: =J24-J32 -> 0 | ... O33: =O24-O32 -> 15000
A35: Expenses
A36: Practitioner Expenses
A37: Fixed Employee Wages | C37: 1000 | O37: =SUM(C37:N37) -> 1000
A38: Fixed Payroll Taxes | B38: 0.0775 | C38: 1000 | O38: =SUM(C38:N38) -> 1000
A39: Hourly Employee Wages | C39: 1000 | O39: =SUM(C39:N39) -> 1000
A40: Variable Payroll Taxes | C40: 1000 | O40: =SUM(C40:N40) -> 1000
A41: Workers Comp | B41: 0.0275 | C41: 1000 | O41: =SUM(C41:N41) -> 1000
A42: Commissions | B42: 0.05 | C42: 1000 | O42: =SUM(C42:N42) -> 1000
A43: Contract Labor | C43: 1000
A44: Overhead Expenses | O44: =SUM(C44:N44) -> 0
A45: Overhead Employee Wages
A46: Overhead Payroll Taxes | B46: 0.0025 | C46: 50 | O46: =SUM(C46:N46) -> 50
A47: Overhead Contract Labor | C47: 50
A48: Bad Debts | C48: 50
A49: Advertising | C49: 50 | O49: =SUM(C49:N49) -> 50
A50: Bank Charges, Interest & Fees | C50: 50
A51: Charitable Contributions | C51: 50 | O51: =SUM(C51:N51) -> 50
A52: Continuing Education & Professional Development
A53: Dues & Subscriptions | O53: =SUM(C53:N53) -> 0
...

Sheet Q1 Summary
A1: ='P&L'!A1 -> Company Name
A6: Summary Q1 -Jan-Mar
A12: Revenue
A13: Revenue Type
A14: ='P&L'!A14 -> Introductory Packages/Consultations/Challenge or Transformation Fees | B14: =SUM('P&L'!C14:E14) -> 10000 | C14: =IFERROR((B14/$B$22),0) -> 0.66666667
A15: ='P&L'!A15 -> Recurring Revenue Income | B15: =SUM('P&L'!C15:E15) -> 5000 | C15: =IFERROR((B15/$B$22),0) -> 0.33333333
A16: ='P&L'!A16 -> Retail Sales | B16: =SUM('P&L'!C16:E16) -> 0 | C16: =IFERROR((B16/$B$22),0) -> 0
A17: ='P&L'!A17 -> Other Income - PPP/Grants/Etc. | B17: =SUM('P&L'!C17:E17) -> 0 | C17: =IFERROR((B17/$B$22),0) -> 0
A18: ='P&L'!A18 -> Package or short term sale income | B18: =SUM('P&L'!C18:E18) -> 0 | C18: =IFERROR((B18/$B$22),0) -> 0
A19: ='P&L'!A19 -> Single sessions | B19: =SUM('P&L'!C19:E19) -> 0 | C19: =IFERROR((B19/$B$22),0) -> 0
A20: ='P&L'!A20 -> Virtual Programs | B20: =SUM('P&L'!C20:E20) -> 0 | C20: =IFERROR((B20/$B$22),0) -> 0
A21: ='P&L'!A21 | B21: =SUM('P&L'!C21:E21) -> 0 | C21: =IFERROR((B21/$B$22),0) -> 0
A22: Total Revenue | B22: =SUM(B14:B21) -> 15000 | C22: =SUM(C14:C21) -> 1
A24: Cost of Goods Sold
A25: ='P&L'!A27 -> Products for Retail Sale | B25: =SUM('P&L'!C27:E27) -> 0
A26: ='P&L'!A28 -> Nutritional Supplies | B26: =SUM('P&L'!C28:E28) -> 0
A27: ='P&L'!A29 | B27: =SUM('P&L'!C29:E29) -> 0
A28: ='P&L'!A30 | B28: =SUM('P&L'!C30:E30) -> 0
A29: ='P&L'!A31 | B29: =SUM('P&L'!C31:E31) -> 0
A30: Total Cost of Goods Sold | B30: =SUM(B25:B29) -> 0
A31: Gross Profit | B31: =B22-B30 -> 15000
A33: Expenses
A34: ='P&L'!A36 -> Practitioner Expenses
A35: ='P&L'!A37 -> Fixed Employee Wages | B35: =SUM('P&L'!C37:E37) -> 1000 | C35: =IFERROR((B35/$B$72),0) -> 0.1369863
A36: ='P&L'!A38 -> Fixed Payroll Taxes | B36: =SUM('P&L'!C38:E38) -> 1000 | C36: =IFERROR((B36/$B$72),0) -> 0.1369863
A37: ='P&L'!A39 -> Hourly Employee Wages | B37: =SUM('P&L'!C39:E39) -> 1000 | C37: =IFERROR((B37/$B$72),0) -> 0.1369863
A38: ='P&L'!A40 -> Variable Payroll Taxes | B38: =SUM('P&L'!C40:E40) -> 1000 | C38: =IFERROR((B38/$B$72),0) -> 0.1369863
A39: ='P&L'!A41 -> Workers Comp | B39: =SUM('P&L'!C41:E41) -> 1000 | C39: =IFERROR((B39/$B$72),0) -> 0.1369863
A40: ='P&L'!A42 -> Commissions | B40: =SUM('P&L'!C42:E42) -> 1000 | C40: =IFERROR((B40/$B$72),0) -> 0.1369863
A41: ='P&L'!A43 -> Contract Labor | B41: =SUM('P&L'!C43:E43) -> 1000 | C41: =IFERROR((B41/$B$72),0) -> 0.1369863
A42: ='P&L'!A44 -> Overhead Expenses
A43: ='P&L'!A45 -> Overhead Employee Wages | B43: =SUM('P&L'!C45:E45) -> 0 | C43: =IFERROR((B43/$B$72),0) -> 0
A44: ='P&L'!A46 -> Overhead Payroll Taxes | B44: =SUM('P&L'!C46:E46) -> 50 | C44: =IFERROR((B44/$B$72),0) -> 0.0068493151
A45: ='P&L'!A47 -> Overhead Contract Labor | B45: =SUM('P&L'!C47:E47) -> 50 | C45: =IFERROR((B45/$B$72),0) -> 0.0068493151
A46: ='P&L'!A48 -> Bad Debts | B46: =SUM('P&L'!C48:E48) -> 50 | C46: =IFERROR((B46/$B$72),0) -> 0.0068493151
A47: ='P&L'!A49 -> Advertising | B47: =SUM('P&L'!C49:E49) -> 50 | C47: =IFERROR((B47/$B$72),0) -> 0.0068493151
A48: ='P&L'!A50 -> Bank Charges, Interest & Fees | B48: =SUM('P&L'!C50:E50) -> 50 | C48: =IFERROR((B48/$B$72),0) -> 0.0068493151
A49: ='P&L'!A51 -> Charitable Contributions | B49: =SUM('P&L'!C51:E51) -> 50 | C49: =IFERROR((B49/$B$72),0) -> 0.0068493151
A50: ='P&L'!A52 -> Continuing Education & Professional Development | B50: =SUM('P&L'!C52:E52) -> 0 | C50: =IFERROR((B50/$B$72),0) -> 0
A51: ='P&L'!A53 -> Dues & Subscriptions | B51: =SUM('P&L'!C53:E53) -> 0 | C51: =IFERROR((B51/$B$72),0) -> 0
...

Sheet Q2 Summary
A1: ='P&L'!A1 -> Company Name
A6: Summary Q1 -Apr-Jun
A12: Revenue
A13: Revenue Type
A14: ='P&L'!A14 -> Introductory Packages/Consultations/Challenge or Transformation Fees | B14: =SUM('P&L'!F14:H14) -> 0 | C14: =IFERROR((B14/$B$22),0) -> 0
A15: ='P&L'!A15 -> Recurring Revenue Income | B15: =SUM('P&L'!F15:H15) -> 0 | C15: =IFERROR((B15/$B$22),0) -> 0
A16: ='P&L'!A16 -> Retail Sales | B16: =SUM('P&L'!F16:H16) -> 0 | C16: =IFERROR((B16/$B$22),0) -> 0
A17: ='P&L'!A17 -> Other Income - PPP/Grants/Etc. | B17: =SUM('P&L'!F17:H17) -> 0 | C17: =IFERROR((B17/$B$22),0) -> 0
A18: ='P&L'!A18 -> Package or short term sale income | B18: =SUM('P&L'!F18:H18) -> 0 | C18: =IFERROR((B18/$B$22),0) -> 0
A19: ='P&L'!A19 -> Single sessions | B19: =SUM('P&L'!F19:H19) -> 0 | C19: =IFERROR((B19/$B$22),0) -> 0
A20: ='P&L'!A20 -> Virtual Programs | B20: =SUM('P&L'!F20:H20) -> 0 | C20: =IFERROR((B20/$B$22),0) -> 0
A21: ='P&L'!A21 | B21: =SUM('P&L'!F21:H21) -> 0 | C21: =IFERROR((B21/$B$22),0) -> 0
A22: Total Revenue | B22: =SUM(B14:B21) -> 0 | C22: =SUM(C14:C21) -> 0
A24: Cost of Goods Sold
A25: ='P&L'!A27 -> Products for Retail Sale | B25: =SUM('P&L'!F27:H27) -> 0
A26: ='P&L'!A28 -> Nutritional Supplies | B26: =SUM('P&L'!F28:H28) -> 0
A27: ='P&L'!A29 | B27: =SUM('P&L'!F29:H29) -> 0
A28: ='P&L'!A30 | B28: =SUM('P&L'!F30:H30) -> 0
A29: ='P&L'!A31 | B29: =SUM('P&L'!F31:H31) -> 0
A30: Total Cost of Goods Sold | B30: =SUM(B25:B29) -> 0
A31: Gross Profit | B31: =B22-B30 -> 0
A33: Expenses
A34: ='P&L'!A36 -> Practitioner Expenses
A35: ='P&L'!A37 -> Fixed Employee Wages | B35: =SUM('P&L'!F37:H37) -> 0 | C35: =IFERROR((B35/$B$72),0) -> 0
A36: ='P&L'!A38 -> Fixed Payroll Taxes | B36: =SUM('P&L'!F38:H38) -> 0 | C36: =IFERROR((B36/$B$72),0) -> 0
A37: ='P&L'!A39 -> Hourly Employee Wages | B37: =SUM('P&L'!F39:H39) -> 0 | C37: =IFERROR((B37/$B$72),0) -> 0
A38: ='P&L'!A40 -> Variable Payroll Taxes | B38: =SUM('P&L'!F40:H40) -> 0 | C38: =IFERROR((B38/$B$72),0) -> 0
A39: ='P&L'!A41 -> Workers Comp | B39: =SUM('P&L'!F41:H41) -> 0 | C39: =IFERROR((B39/$B$72),0) -> 0
A40: ='P&L'!A42 -> Commissions | B40: =SUM('P&L'!F42:H42) -> 0 | C40: =IFERROR((B40/$B$72),0) -> 0
A41: ='P&L'!A43 -> Contract Labor | B41: =SUM('P&L'!F43:H43) -> 0 | C41: =IFERROR((B41/$B$72),0) -> 0
A42: ='P&L'!A44 -> Overhead Expenses
A43: ='P&L'!A45 -> Overhead Employee Wages | B43: =SUM('P&L'!F45:H45) -> 0 | C43: =IFERROR((B43/$B$72),0) -> 0
A44: ='P&L'!A46 -> Overhead Payroll Taxes | B44: =SUM('P&L'!F46:H46) -> 0 | C44: =IFERROR((B44/$B$72),0) -> 0
A45: ='P&L'!A47 -> Overhead Contract Labor | B45: =SUM('P&L'!F47:H47) -> 0 | C45: =IFERROR((B45/$B$72),0) -> 0
A46: ='P&L'!A48 -> Bad Debts | B46: =SUM('P&L'!F48:H48) -> 0 | C46: =IFERROR((B46/$B$72),0) -> 0
A47: ='P&L'!A49 -> Advertising | B47: =SUM('P&L'!F49:H49) -> 0 | C47: =IFERROR((B47/$B$72),0) -> 0
A48: ='P&L'!A50 -> Bank Charges, Interest & Fees | B48: =SUM('P&L'!F50:H50) -> 0 | C48: =IFERROR((B48/$B$72),0) -> 0
A49: ='P&L'!A51 -> Charitable Contributions | B49: =SUM('P&L'!F51:H51) -> 0 | C49: =IFERROR((B49/$B$72),0) -> 0
A50: ='P&L'!A52 -> Continuing Education & Professional Development | B50: =SUM('P&L'!F52:H52) -> 0 | C50: =IFERROR((B50/$B$72),0) -> 0
A51: ='P&L'!A53 -> Dues & Subscriptions | B51: =SUM('P&L'!F53:H53) -> 0 | C51: =IFERROR((B51/$B$72),0) -> 0
...

Sheet Q3 Summary
A1: ='P&L'!A1 -> Company Name
A6: Summary Q1 -Jul-Sep
A12: Revenue
A13: Revenue Type
A14: ='P&L'!A14 -> Introductory Packages/Consultations/Challenge or Transformation Fees | B14: =SUM('P&L'!I14:K14) -> 0 | C14: =IFERROR((B14/$B$22),0) -> 0
A15: ='P&L'!A15 -> Recurring Revenue Income | B15: =SUM('P&L'!I15:K15) -> 0 | C15: =IFERROR((B15/$B$22),0) -> 0
A16: ='P&L'!A16 -> Retail Sales | B16: =SUM('P&L'!I16:K16) -> 0 | C16: =IFERROR((B16/$B$22),0) -> 0
A17: ='P&L'!A17 -> Other Income - PPP/Grants/Etc. | B17: =SUM('P&L'!I17:K17) -> 0 | C17: =IFERROR((B17/$B$22),0) -> 0
A18: ='P&L'!A18 -> Package or short term sale income | B18: =SUM('P&L'!I18:K18) -> 0 | C18: =IFERROR((B18/$B$22),0) -> 0
A19: ='P&L'!A19 -> Single sessions | B19: =SUM('P&L'!I19:K19) -> 0 | C19: =IFERROR((B19/$B$22),0) -> 0
A20: ='P&L'!A20 -> Virtual Programs | B20: =SUM('P&L'!I20:K20) -> 0 | C20: =IFERROR((B20/$B$22),0) -> 0
A21: ='P&L'!A21 | B21: =SUM('P&L'!I21:K21) -> 0 | C21: =IFERROR((B21/$B$22),0) -> 0
A22: Total Revenue | B22: =SUM(B14:B21) -> 0 | C22: =SUM(C14:C21) -> 0
A24: Cost of Goods Sold
A25: ='P&L'!A27 -> Products for Retail Sale | B25: =SUM('P&L'!I27:K27) -> 0
A26: ='P&L'!A28 -> Nutritional Supplies | B26: =SUM('P&L'!I28:K28) -> 0
A27: ='P&L'!A29 | B27: =SUM('P&L'!I29:K29) -> 0
A28: ='P&L'!A30 | B28: =SUM('P&L'!I30:K30) -> 0
A29: ='P&L'!A31 | B29: =SUM('P&L'!I31:K31) -> 0
A30: Total Cost of Goods Sold | B30: =SUM(B25:B29) -> 0
A31: Gross Profit | B31: =B22-B30 -> 0
A33: Expenses
A34: ='P&L'!A36 -> Practitioner Expenses
A35: ='P&L'!A37 -> Fixed Employee Wages | B35: =SUM('P&L'!I37:K37) -> 0 | C35: =IFERROR((B35/$B$72),0) -> 0
A36: ='P&L'!A38 -> Fixed Payroll Taxes | B36: =SUM('P&L'!I38:K38) -> 0 | C36: =IFERROR((B36/$B$72),0) -> 0
A37: ='P&L'!A39 -> Hourly Employee Wages | B37: =SUM('P&L'!I39:K39) -> 0 | C37: =IFERROR((B37/$B$72),0) -> 0
A38: ='P&L'!A40 -> Variable Payroll Taxes | B38: =SUM('P&L'!I40:K40) -> 0 | C38: =IFERROR((B38/$B$72),0) -> 0
A39: ='P&L'!A41 -> Workers Comp | B39: =SUM('P&L'!I41:K41) -> 0 | C39: =IFERROR((B39/$B$72),0) -> 0
A40: ='P&L'!A42 -> Commissions | B40: =SUM('P&L'!I42:K42) -> 0 | C40: =IFERROR((B40/$B$72),0) -> 0
A41: ='P&L'!A43 -> Contract Labor | B41: =SUM('P&L'!I43:K43) -> 0 | C41: =IFERROR((B41/$B$72),0) -> 0
A42: ='P&L'!A44 -> Overhead Expenses
A43: ='P&L'!A45 -> Overhead Employee Wages | B43: =SUM('P&L'!I45:K45) -> 0 | C43: =IFERROR((B43/$B$72),0) -> 0
A44: ='P&L'!A46 -> Overhead Payroll Taxes | B44: =SUM('P&L'!I46:K46) -> 0 | C44: =IFERROR((B44/$B$72),0) -> 0
A45: ='P&L'!A47 -> Overhead Contract Labor | B45: =SUM('P&L'!I47:K47) -> 0 | C45: =IFERROR((B45/$B$72),0) -> 0
A46: ='P&L'!A48 -> Bad Debts | B46: =SUM('P&L'!I48:K48) -> 0 | C46: =IFERROR((B46/$B$72),0) -> 0
A47: ='P&L'!A49 -> Advertising | B47: =SUM('P&L'!I49:K49) -> 0 | C47: =IFERROR((B47/$B$72),0) -> 0
A48: ='P&L'!A50 -> Bank Charges, Interest & Fees | B48: =SUM('P&L'!I50:K50) -> 0 | C48: =IFERROR((B48/$B$72),0) -> 0
A49: ='P&L'!A51 -> Charitable Contributions | B49: =SUM('P&L'!I51:K51) -> 0 | C49: =IFERROR((B49/$B$72),0) -> 0
A50: ='P&L'!A52 -> Continuing Education & Professional Development | B50: =SUM('P&L'!I52:K52) -> 0 | C50: =IFERROR((B50/$B$72),0) -> 0
A51: ='P&L'!A53 -> Dues & Subscriptions | B51: =SUM('P&L'!I53:K53) -> 0 | C51: =IFERROR((B51/$B$72),0) -> 0
...

Sheet Q4 Summary
A1: ='P&L'!A1 -> Company Name
A6: Summary Q1 -Sep-Dec
A12: Revenue
A13: Revenue Type
A14: ='P&L'!A14 -> Introductory Packages/Consultations/Challenge or Transformation Fees | B14: =SUM('P&L'!L14:N14) -> 0 | C14: =IFERROR((B14/$B$22),0) -> 0
A15: ='P&L'!A15 -> Recurring Revenue Income | B15: =SUM('P&L'!L15:N15) -> 0 | C15: =IFERROR((B15/$B$22),0) -> 0
A16: ='P&L'!A16 -> Retail Sales | B16: =SUM('P&L'!L16:N16) -> 0 | C16: =IFERROR((B16/$B$22),0) -> 0
A17: ='P&L'!A17 -> Other Income - PPP/Grants/Etc. | B17: =SUM('P&L'!L17:N17) -> 0 | C17: =IFERROR((B17/$B$22),0) -> 0
A18: ='P&L'!A18 -> Package or short term sale income | B18: =SUM('P&L'!L18:N18) -> 0 | C18: =IFERROR((B18/$B$22),0) -> 0
A19: ='P&L'!A19 -> Single sessions | B19: =SUM('P&L'!L19:N19) -> 0 | C19: =IFERROR((B19/$B$22),0) -> 0
A20: ='P&L'!A20 -> Virtual Programs | B20: =SUM('P&L'!L20:N20) -> 0 | C20: =IFERROR((B20/$B$22),0) -> 0
A21: ='P&L'!A21 | B21: =SUM('P&L'!L21:N21) -> 0 | C21: =IFERROR((B21/$B$22),0) -> 0
A22: Total Revenue | B22: =SUM(B14:B21) -> 0 | C22: =SUM(C14:C21) -> 0
A24: Cost of Goods Sold
A25: ='P&L'!A27 -> Products for Retail Sale | B25: =SUM('P&L'!L27:N27) -> 0
A26: ='P&L'!A28 -> Nutritional Supplies | B26: =SUM('P&L'!L28:N28) -> 0
A27: ='P&L'!A29 | B27: =SUM('P&L'!L29:N29) -> 0
A28: ='P&L'!A30 | B28: =SUM('P&L'!L30:N30) -> 0
A29: ='P&L'!A31 | B29: =SUM('P&L'!L31:N31) -> 0
A30: Total Cost of Goods Sold | B30: =SUM(B25:B29) -> 0
A31: Gross Profit | B31: =B22-B30 -> 0
A33: Expenses
A34: ='P&L'!A36 -> Practitioner Expenses
A35: ='P&L'!A37 -> Fixed Employee Wages | B35: =SUM('P&L'!L37:N37) -> 0 | C35: =IFERROR((B35/$B$72),0) -> 0
A36: ='P&L'!A38 -> Fixed Payroll Taxes | B36: =SUM('P&L'!L38:N38) -> 0 | C36: =IFERROR((B36/$B$72),0) -> 0
A37: ='P&L'!A39 -> Hourly Employee Wages | B37: =SUM('P&L'!L39:N39) -> 0 | C37: =IFERROR((B37/$B$72),0) -> 0
A38: ='P&L'!A40 -> Variable Payroll Taxes | B38: =SUM('P&L'!L40:N40) -> 0 | C38: =IFERROR((B38/$B$72),0) -> 0
A39: ='P&L'!A41 -> Workers Comp | B39: =SUM('P&L'!L41:N41) -> 0 | C39: =IFERROR((B39/$B$72),0) -> 0
A40: ='P&L'!A42 -> Commissions | B40: =SUM('P&L'!L42:N42) -> 0 | C40: =IFERROR((B40/$B$72),0) -> 0
A41: ='P&L'!A43 -> Contract Labor | B41: =SUM('P&L'!L43:N43) -> 0 | C41: =IFERROR((B41/$B$72),0) -> 0
A42: ='P&L'!A44 -> Overhead Expenses
A43: ='P&L'!A45 -> Overhead Employee Wages | B43: =SUM('P&L'!L45:N45) -> 0 | C43: =IFERROR((B43/$B$72),0) -> 0
A44: ='P&L'!A46 -> Overhead Payroll Taxes | B44: =SUM('P&L'!L46:N46) -> 0 | C44: =IFERROR((B44/$B$72),0) -> 0
A45: ='P&L'!A47 -> Overhead Contract Labor | B45: =SUM('P&L'!L47:N47) -> 0 | C45: =IFERROR((B45/$B$72),0) -> 0
A46: ='P&L'!A48 -> Bad Debts | B46: =SUM('P&L'!L48:N48) -> 0 | C46: =IFERROR((B46/$B$72),0) -> 0
A47: ='P&L'!A49 -> Advertising | B47: =SUM('P&L'!L49:N49) -> 0 | C47: =IFERROR((B47/$B$72),0) -> 0
A48: ='P&L'!A50 -> Bank Charges, Interest & Fees | B48: =SUM('P&L'!L50:N50) -> 0 | C48: =IFERROR((B48/$B$72),0) -> 0
A49: ='P&L'!A51 -> Charitable Contributions | B49: =SUM('P&L'!L51:N51) -> 0 | C49: =IFERROR((B49/$B$72),0) -> 0
A50: ='P&L'!A52 -> Continuing Education & Professional Development | B50: =SUM('P&L'!L52:N52) -> 0 | C50: =IFERROR((B50/$B$72),0) -> 0
A51: ='P&L'!A53 -> Dues & Subscriptions | B51: =SUM('P&L'!L53:N53) -> 0 | C51: =IFERROR((B51/$B$72),0) -> 0
...
